BEGIN:VCALENDAR
VERSION:2.0
PRODID:-//Create Essentials - ECPv6.15.18//NONSGML v1.0//EN
CALSCALE:GREGORIAN
METHOD:PUBLISH
X-WR-CALNAME:Create Essentials
X-ORIGINAL-URL:https://createessentials.ca
X-WR-CALDESC:Events for Create Essentials
REFRESH-INTERVAL;VALUE=DURATION:PT1H
X-Robots-Tag:noindex
X-PUBLISHED-TTL:PT1H
BEGIN:VTIMEZONE
TZID:America/Halifax
BEGIN:DAYLIGHT
TZOFFSETFROM:-0400
TZOFFSETTO:-0300
TZNAME:ADT
DTSTART:20250309T060000
END:DAYLIGHT
BEGIN:STANDARD
TZOFFSETFROM:-0300
TZOFFSETTO:-0400
TZNAME:AST
DTSTART:20251102T050000
END:STANDARD
BEGIN:DAYLIGHT
TZOFFSETFROM:-0400
TZOFFSETTO:-0300
TZNAME:ADT
DTSTART:20260308T060000
END:DAYLIGHT
BEGIN:STANDARD
TZOFFSETFROM:-0300
TZOFFSETTO:-0400
TZNAME:AST
DTSTART:20261101T050000
END:STANDARD
BEGIN:DAYLIGHT
TZOFFSETFROM:-0400
TZOFFSETTO:-0300
TZNAME:ADT
DTSTART:20270314T060000
END:DAYLIGHT
BEGIN:STANDARD
TZOFFSETFROM:-0300
TZOFFSETTO:-0400
TZNAME:AST
DTSTART:20271107T050000
END:STANDARD
END:VTIMEZONE
BEGIN:VEVENT
DTSTART;TZID=America/Halifax:20260510T100000
DTEND;TZID=America/Halifax:20260510T140000
DTSTAMP:20260417T064523
CREATED:20260328T220154Z
LAST-MODIFIED:20260329T234354Z
UID:824-1778407200-1778421600@createessentials.ca
SUMMARY:Sunday Market in Bath
DESCRIPTION:
URL:https://createessentials.ca/event/sunday-market-in-bath/
LOCATION:Centennial Park\, 336 Main Street\, Bath\, Ontario\, K0H 1G0\, Canada
END:VEVENT
BEGIN:VEVENT
DTSTART;TZID=America/Halifax:20260516T090000
DTEND;TZID=America/Halifax:20260516T130000
DTSTAMP:20260417T064523
CREATED:20260328T221803Z
LAST-MODIFIED:20260329T234254Z
UID:831-1778922000-1778936400@createessentials.ca
SUMMARY:Wellington Community Market
DESCRIPTION:
URL:https://createessentials.ca/event/wellington-community-market-2/
LOCATION:Wellington United Church\, 243 Main St\, Wellington\, Ontario\, K0K 3L0\, Canada
END:VEVENT
BEGIN:VEVENT
DTSTART;TZID=America/Halifax:20260523T090000
DTEND;TZID=America/Halifax:20260523T130000
DTSTAMP:20260417T064523
CREATED:20260328T221206Z
LAST-MODIFIED:20260329T234611Z
UID:829-1779526800-1779541200@createessentials.ca
SUMMARY:Wellington Community Market
DESCRIPTION:
URL:https://createessentials.ca/event/wellington-community-market/
LOCATION:Wellington United Church\, 243 Main St\, Wellington\, Ontario\, K0K 3L0\, Canada
END:VEVENT
END:VCALENDAR